BEGIN:VCALENDAR
VERSION:2.0
PRODID:-//https://www.wmc.ac.uk///NONSGML kigkonsult.se iCalcreator 2.10.15//
METHOD:PUBLISH
BEGIN:VEVENT
UID:20260424T141838UTC-0252dUXWVi@https://www.wmc.ac.uk/
DTSTAMP:20260424T141838Z
DESCRIPTION:\n\nWednesday 27th May\n5:30pm – 7:30pm\nTwelve Quays Campus\n
 \n\nJoin us for an engaging evening focused on people management\, leaders
 hip\, and professional development\, bringing together CIPD &amp\; leaders
 hip&nbsp\;alumni\, current students\, leaders and HR professionals and pro
 spective students from across the local business community.\nThis event is
  designed to support professional development\, share insight from industr
 y experts\, and showcase how studying at Wirral Met can help progress your
  career in people management and leadership.\n\nWhat to Expect:\n\nWelcome
  and networking\nStart the evening by connecting with fellow HR profession
 als\, CIPD &amp\; leadership alumni\, students\, and staff over refreshmen
 ts in a relaxed setting.\nEmployment law update\nDelivered by Bramhall’s S
 olicitors\, this session will provide a practical update on key employment
  law developments and what they mean for your organisation.\nStudent succe
 ss stories &amp\; college updates\nHear from current and former students a
 s they share their experiences\, achievements\, and how studying at Wirral
  Met College has supported their career progression. You’ll also receive t
 helatest updates from the College.\nProspective student briefing\nFind out
  more about our CIPD and leadership programmes\, including study options\,
  progression routes\, and how these qualifications can support your career
  in people management.\n\nWho Should Attend?\n\nCIPD alumni\nCurrent CIPD 
 and leadership students\nHR professionals and people managers from the loc
 al business community\nAnyone interested in developing their career in peo
 ple management and leadership\n https://www.wmc.ac.uk/whats-on/events/even
 t/34-wirral-met-college-people-management-leadership-event
DTSTART:20260527T173000Z
DTEND:20260527T193000Z
LOCATION:Twelve Quays ()
SUMMARY:Wirral Met College People Management & Leadership Event
URL:https://www.wmc.ac.uk/whats-on/events/event/34-wirral-met-college-peopl
 e-management-leadership-event
END:VEVENT
END:VCALENDAR
